BEGIN:VCALENDAR
VERSION:2.0
PRODID:-//Pluckemin Inn - ECPv6.15.12.2//NONSGML v1.0//EN
CALSCALE:GREGORIAN
METHOD:PUBLISH
X-ORIGINAL-URL:https://www.pluckemininn.com
X-WR-CALDESC:Events for Pluckemin Inn
REFRESH-INTERVAL;VALUE=DURATION:PT1H
X-Robots-Tag:noindex
X-PUBLISHED-TTL:PT1H
BEGIN:VTIMEZONE
TZID:UTC
BEGIN:STANDARD
TZOFFSETFROM:+0000
TZOFFSETTO:+0000
TZNAME:UTC
DTSTART:20230101T000000
END:STANDARD
END:VTIMEZONE
BEGIN:VEVENT
DTSTART;TZID=UTC:20240925T190000
DTEND;TZID=UTC:20240925T213000
DTSTAMP:20260419T203329
CREATED:20240911T211934Z
LAST-MODIFIED:20240911T211934Z
UID:10000223-1727290800-1727299800@www.pluckemininn.com
SUMMARY:Feast of San Gennaro Dinner
DESCRIPTION:Our Feast of San Gennaro has become an annual tradition\, and we are always excited for that dinner. \nIt may have something to do with the fact that Mrs. Gloria LaGrassa\, the owner of the Pluckemin Inn\, is of Italian heritage\, or maybe because\, well… how can you NOT love Italian food\, but regardless\, if there is an opportunity to celebrate it with our guests\, you can count on us that we will. \nThe Feast of San Gennaro is nearly a century old tradition that started along Manhattan’s Mulberry street in 1926 with Italian immigrants from Naples celebrating Saint Januarius\, the patron saint of Naples. \nAs with most Italian traditions\, food took center stage\, and food (and wine) is what we will celebrate at this dinner. \nSo join us on Wednesday\, September 25th\, at 7:00pm for an Italian inspired wine paired dinner\, celebrating the delicious cuisine of Naples\, Italy. \nClick HERE for the dinner’s menu. (for wine pairing\, check back soon)
URL:https://www.pluckemininn.com/event/feast-of-san-gennaro-dinner-3/
CATEGORIES:Themed Dinner,Wine Dinner
ATTACH;FMTTYPE=image/jpeg:https://www.pluckemininn.com/wp-content/uploads/2024/09/AdobeStock_167806246.jpeg
END:VEVENT
END:VCALENDAR