BEGIN:VCALENDAR
VERSION:2.0
PRODID:-//Pluckemin Inn - ECPv6.15.12.2//NONSGML v1.0//EN
CALSCALE:GREGORIAN
METHOD:PUBLISH
X-WR-CALNAME:Pluckemin Inn
X-ORIGINAL-URL:https://www.pluckemininn.com
X-WR-CALDESC:Events for Pluckemin Inn
REFRESH-INTERVAL;VALUE=DURATION:PT1H
X-Robots-Tag:noindex
X-PUBLISHED-TTL:PT1H
BEGIN:VTIMEZONE
TZID:UTC
BEGIN:STANDARD
TZOFFSETFROM:+0000
TZOFFSETTO:+0000
TZNAME:UTC
DTSTART:20230101T000000
END:STANDARD
END:VTIMEZONE
BEGIN:VEVENT
DTSTART;TZID=UTC:20240710T190000
DTEND;TZID=UTC:20240710T210000
DTSTAMP:20260421T151742
CREATED:20240625T214155Z
LAST-MODIFIED:20240706T170321Z
UID:10000214-1720638000-1720645200@www.pluckemininn.com
SUMMARY:American Regional Cuisine - Wine & Beer paired dinner
DESCRIPTION:Join us on July 10th as we celebrate America and it’s incredible regional cuisines. \nExecutive Chef Jason Ramos and his team will take us from New England to the Pacific North West with a few stops in between. Along the way we will have a lobster roll\, a southern style grilled quail and a Columbia River sturgeon. \nSommelier Sean Price will pair each course with a perfect glass of wine. \nTo view the menu\, click HERE. \nCall 908.658.9292 today\, or click here to reserve your spot. \n 
URL:https://www.pluckemininn.com/event/american-regional-cuisine/
LOCATION:Pluckemin Inn\, 359 Route 206 South & Pluckemin Way\, Bedminster\, NJ\, 07921\, United States
CATEGORIES:Themed Dinner,Wine Dinner
GEO:40.6497262;-74.643527
X-APPLE-STRUCTURED-LOCATION;VALUE=URI;X-ADDRESS=Pluckemin Inn 359 Route 206 South & Pluckemin Way Bedminster NJ 07921 United States;X-APPLE-RADIUS=500;X-TITLE=359 Route 206 South & Pluckemin Way:geo:-74.643527,40.6497262
END:VEVENT
END:VCALENDAR