BEGIN:VCALENDAR
VERSION:2.0
PRODID:-//Pluckemin Inn - ECPv6.15.12.2//NONSGML v1.0//EN
CALSCALE:GREGORIAN
METHOD:PUBLISH
X-ORIGINAL-URL:https://www.pluckemininn.com
X-WR-CALDESC:Events for Pluckemin Inn
REFRESH-INTERVAL;VALUE=DURATION:PT1H
X-Robots-Tag:noindex
X-PUBLISHED-TTL:PT1H
BEGIN:VTIMEZONE
TZID:UTC
BEGIN:STANDARD
TZOFFSETFROM:+0000
TZOFFSETTO:+0000
TZNAME:UTC
DTSTART:20230101T000000
END:STANDARD
END:VTIMEZONE
BEGIN:VEVENT
DTSTART;TZID=UTC:20240529T190000
DTEND;TZID=UTC:20240529T213000
DTSTAMP:20260421T170605
CREATED:20240501T205801Z
LAST-MODIFIED:20240516T001010Z
UID:10000212-1717009200-1717018200@www.pluckemininn.com
SUMMARY:The Marvelous Morel Dinner
DESCRIPTION:The marvelous morel mushrooms are not only on our list of all-time favorite ingredients\, they are also a sign that Spring has finally arrived. \nThe Morel\, or morchella\, is actually more related to the truffle than it is to other mushrooms and\, like truffles\, is the fruit of a fungus that sprouts in the moist soil of woods and forests. Morels are very versatile and have a complex flavor and wonderful texture unlike any other mushroom. That\, combined with the fact that they only grow in the wild during a very short season\, contributes to their mystique\, their popularity among great chefs and their high price. \nwhether you have never had a morel\, or already a fan\, you will want to join us for this upcoming dinner celebrating this incredible ingredient. Executive Chef\, Jason Ramos\, will be presenting a five course dinner designed to showcase the best of the marvelous morel. \nClick here to view the menu and wine pairing.
URL:https://www.pluckemininn.com/event/the-marvelous-morel-dinner/
LOCATION:Pluckemin Inn\, 359 Route 206 South & Pluckemin Way\, Bedminster\, NJ\, 07921\, United States
CATEGORIES:Themed Dinner
ATTACH;FMTTYPE=image/jpeg:https://www.pluckemininn.com/wp-content/uploads/2024/05/AdobeStock_788424618.jpeg
GEO:40.6497262;-74.643527
X-APPLE-STRUCTURED-LOCATION;VALUE=URI;X-ADDRESS=Pluckemin Inn 359 Route 206 South & Pluckemin Way Bedminster NJ 07921 United States;X-APPLE-RADIUS=500;X-TITLE=359 Route 206 South & Pluckemin Way:geo:-74.643527,40.6497262
END:VEVENT
END:VCALENDAR