BEGIN:VCALENDAR
VERSION:2.0
PRODID:-//Pluckemin Inn - ECPv6.15.12.2//NONSGML v1.0//EN
CALSCALE:GREGORIAN
METHOD:PUBLISH
X-WR-CALNAME:Pluckemin Inn
X-ORIGINAL-URL:https://www.pluckemininn.com
X-WR-CALDESC:Events for Pluckemin Inn
REFRESH-INTERVAL;VALUE=DURATION:PT1H
X-Robots-Tag:noindex
X-PUBLISHED-TTL:PT1H
BEGIN:VTIMEZONE
TZID:UTC
BEGIN:STANDARD
TZOFFSETFROM:+0000
TZOFFSETTO:+0000
TZNAME:UTC
DTSTART:20220101T000000
END:STANDARD
END:VTIMEZONE
BEGIN:VEVENT
DTSTART;TZID=UTC:20231025T190000
DTEND;TZID=UTC:20231025T213000
DTSTAMP:20260422T063228
CREATED:20231016T192810Z
LAST-MODIFIED:20231020T191152Z
UID:10000203-1698260400-1698269400@www.pluckemininn.com
SUMMARY:Italian Wine Dinner
DESCRIPTION:Last year we went on a tour of the Italian hillsides and valleys lesser known to the average wine drinker. We introduced the guests who joined us that evening to new growing regions they have not heard of previously\, and to some new grape varietals. And the response was overwhelmingly positive. So much so\, that we decided to take another trip to Italy\, and explore some more lesser know wines from this land that we all associate with great food and wine. \nExpect to taste new grape varietals such as Pigato from Liguria\, Falanghina from Campania and more. \nSo\, join us on Wednesday\, October 25th\, and explore an array of hidden gems from across Italy. Sommelier Sean Price has selected wines that display the true terroir of their respective regions\, and are incredibly food friendly\, and Executive Chef Jason Ramos has created a menu to perfectly pair with those wines. \nTo view the complete menu and wine pairing for the dinner click HERE.
URL:https://www.pluckemininn.com/event/italian-wine-dinner-2/
LOCATION:Pluckemin Inn\, 359 Route 206 South & Pluckemin Way\, Bedminster\, NJ\, 07921\, United States
CATEGORIES:Wine Dinner
ATTACH;FMTTYPE=image/jpeg:https://www.pluckemininn.com/wp-content/uploads/2022/10/AdobeStock_126214104-scaled.jpeg
GEO:40.6497262;-74.643527
X-APPLE-STRUCTURED-LOCATION;VALUE=URI;X-ADDRESS=Pluckemin Inn 359 Route 206 South & Pluckemin Way Bedminster NJ 07921 United States;X-APPLE-RADIUS=500;X-TITLE=359 Route 206 South & Pluckemin Way:geo:-74.643527,40.6497262
END:VEVENT
END:VCALENDAR