BEGIN:VCALENDAR
VERSION:2.0
PRODID:-//Pluckemin Inn - ECPv6.15.12.2//NONSGML v1.0//EN
CALSCALE:GREGORIAN
METHOD:PUBLISH
X-ORIGINAL-URL:https://www.pluckemininn.com
X-WR-CALDESC:Events for Pluckemin Inn
REFRESH-INTERVAL;VALUE=DURATION:PT1H
X-Robots-Tag:noindex
X-PUBLISHED-TTL:PT1H
BEGIN:VTIMEZONE
TZID:UTC
BEGIN:STANDARD
TZOFFSETFROM:+0000
TZOFFSETTO:+0000
TZNAME:UTC
DTSTART:20220101T000000
END:STANDARD
END:VTIMEZONE
BEGIN:VEVENT
DTSTART;TZID=UTC:20230727T190000
DTEND;TZID=UTC:20230727T213000
DTSTAMP:20260422T111154
CREATED:20220713T213849Z
LAST-MODIFIED:20230715T212930Z
UID:10000181-1690484400-1690493400@www.pluckemininn.com
SUMMARY:New Jersey Seafood Dinner Returns
DESCRIPTION:After the great feedback we received for our first Jersey Seafood dinner last year\, we are heading back to our state’s shores to bring you another fresh\, delicious\, local seafood dinner. \nExecutive Chef\, Jason Ramos\, and his team put together a menu highlighting the best our shore has to offer\, and we can’t wait to share it with you. \nEach course will be paired with the perfect glass of wine\, carefully selected by sommelier\, Sean Price. \nCall today for your reservation at: 908.658.9292 \nClick HERE for the dinner’s menu. \n*Please note that while we make every effort to accommodate dietary restriction/allergies\, in order to prevent delays between courses\, our ability to accommodate some restrictions/allergies is limited during special events/wine dinners. We apologize in advance for any inconvenience this may present.\n\n 
URL:https://www.pluckemininn.com/event/new-jersey-seafood-dinner/
LOCATION:Pluckemin Inn\, 359 Route 206 South & Pluckemin Way\, Bedminster\, NJ\, 07921\, United States
CATEGORIES:Wine Dinner
ATTACH;FMTTYPE=image/jpeg:https://www.pluckemininn.com/wp-content/uploads/2022/07/AdobeStock_335380021.jpeg
GEO:40.6497262;-74.643527
X-APPLE-STRUCTURED-LOCATION;VALUE=URI;X-ADDRESS=Pluckemin Inn 359 Route 206 South & Pluckemin Way Bedminster NJ 07921 United States;X-APPLE-RADIUS=500;X-TITLE=359 Route 206 South & Pluckemin Way:geo:-74.643527,40.6497262
END:VEVENT
END:VCALENDAR