BEGIN:VCALENDAR
VERSION:2.0
PRODID:-//Pluckemin Inn - ECPv6.15.12.2//NONSGML v1.0//EN
CALSCALE:GREGORIAN
METHOD:PUBLISH
X-WR-CALNAME:Pluckemin Inn
X-ORIGINAL-URL:https://www.pluckemininn.com
X-WR-CALDESC:Events for Pluckemin Inn
REFRESH-INTERVAL;VALUE=DURATION:PT1H
X-Robots-Tag:noindex
X-PUBLISHED-TTL:PT1H
BEGIN:VTIMEZONE
TZID:UTC
BEGIN:STANDARD
TZOFFSETFROM:+0000
TZOFFSETTO:+0000
TZNAME:UTC
DTSTART:20220101T000000
END:STANDARD
END:VTIMEZONE
BEGIN:VEVENT
DTSTART;TZID=UTC:20230523T193000
DTEND;TZID=UTC:20230523T220000
DTSTAMP:20260422T142005
CREATED:20230424T235835Z
LAST-MODIFIED:20230425T180719Z
UID:10000193-1684870200-1684879200@www.pluckemininn.com
SUMMARY:Caparzo Brunello Dinner
DESCRIPTION:On Tuesday\, May 23rd\, we will be welcoming Mirco Biliorsi\, Export Director of Caparzo Wines. \nMirco will be taking us on a trip to Tuscany\, and the beautiful wines of Caparzo including four vintages of their Brunello di Montalcino going back to the 2000 vintage! \nMirco\, a Montalcino native\, will share the history of the Carpazo dating back to the end of the 1960’s when a group of friends purchased an old ruin with vineyards in montalcino. \nTo view the full menu and wine selection click HERE.
URL:https://www.pluckemininn.com/event/caparzo-brunello-dinner/
CATEGORIES:Wine Dinner
ATTACH;FMTTYPE=image/jpeg:https://www.pluckemininn.com/wp-content/uploads/2023/04/Caparzo.jpg
END:VEVENT
END:VCALENDAR