BEGIN:VCALENDAR
VERSION:2.0
PRODID:-//Pluckemin Inn - ECPv6.15.12.2//NONSGML v1.0//EN
CALSCALE:GREGORIAN
METHOD:PUBLISH
X-ORIGINAL-URL:https://www.pluckemininn.com
X-WR-CALDESC:Events for Pluckemin Inn
REFRESH-INTERVAL;VALUE=DURATION:PT1H
X-Robots-Tag:noindex
X-PUBLISHED-TTL:PT1H
BEGIN:VTIMEZONE
TZID:UTC
BEGIN:STANDARD
TZOFFSETFROM:+0000
TZOFFSETTO:+0000
TZNAME:UTC
DTSTART:20220101T000000
END:STANDARD
END:VTIMEZONE
BEGIN:VEVENT
DTSTART;TZID=UTC:20230316T190000
DTEND;TZID=UTC:20230316T213000
DTSTAMP:20260422T173453
CREATED:20230218T204723Z
LAST-MODIFIED:20230228T200038Z
UID:10000187-1678993200-1679002200@www.pluckemininn.com
SUMMARY:Massolino Winemaker Dinner
DESCRIPTION:The Massolino family has deep roots in the Langhe region going back to 1896 when Giovanni Massolino founded the estate carrying the family name. Almost 130 years later\, we are excited to welcome Giovanni’s great-grandson\, Franco\, to a dinner celebrating his family’s world class wines. \nFranco will share details of his family’s history and contribution to the Langhe region\, and guide us through some of Massolino’s exceptional wines. \nExecutive Chef Jason Ramos and his team will create a four course menu to complement the wines. \nPrice: $229 per person (tax and gratuity not included) \nClick HERE to view the menu and wine selection. \n 
URL:https://www.pluckemininn.com/event/massolino-winemaker-dinner/
LOCATION:Pluckemin Inn\, 359 Route 206 South & Pluckemin Way\, Bedminster\, NJ\, 07921\, United States
CATEGORIES:Wine Dinner
ATTACH;FMTTYPE=image/jpeg:https://www.pluckemininn.com/wp-content/uploads/2023/02/https___www.massolino.it_wp-content_uploads_Massolino-foto-azienda-HD-09-2-scaled.jpg
GEO:40.6497262;-74.643527
X-APPLE-STRUCTURED-LOCATION;VALUE=URI;X-ADDRESS=Pluckemin Inn 359 Route 206 South & Pluckemin Way Bedminster NJ 07921 United States;X-APPLE-RADIUS=500;X-TITLE=359 Route 206 South & Pluckemin Way:geo:-74.643527,40.6497262
END:VEVENT
END:VCALENDAR