BEGIN:VCALENDAR
VERSION:2.0
PRODID:-//Pluckemin Inn - ECPv6.15.12.2//NONSGML v1.0//EN
CALSCALE:GREGORIAN
METHOD:PUBLISH
X-WR-CALNAME:Pluckemin Inn
X-ORIGINAL-URL:https://www.pluckemininn.com
X-WR-CALDESC:Events for Pluckemin Inn
REFRESH-INTERVAL;VALUE=DURATION:PT1H
X-Robots-Tag:noindex
X-PUBLISHED-TTL:PT1H
BEGIN:VTIMEZONE
TZID:UTC
BEGIN:STANDARD
TZOFFSETFROM:+0000
TZOFFSETTO:+0000
TZNAME:UTC
DTSTART:20220101T000000
END:STANDARD
END:VTIMEZONE
BEGIN:VEVENT
DTSTART;TZID=UTC:20230308T190000
DTEND;TZID=UTC:20230308T213000
DTSTAMP:20260422T173125
CREATED:20230207T174944Z
LAST-MODIFIED:20230217T225509Z
UID:10000186-1678302000-1678311000@www.pluckemininn.com
SUMMARY:Annual Opus One Dinner
DESCRIPTION:THIS EVENT IS NOW SOLD OUT – ACCEPTING WAITLIST ONLY AT THIS TIME. \nSome wines don’t need any introduction\, and Opus One is certainly at the top of that list. \nOn Wednesday\, March 8th\, we will be hosting our annual Opus One Dinner. France Posener\, Eastern States Division Manager for Opus One\, will guide us through the 2019 vintage\, the most recent release of this world class wine\, along side two additional vintages of Opus and the NV Overture by Opus One. \nWhile the wine will undoubtedly take center stage\, the menu created by Executive Chef\, Jason Ramos\, will be just as exciting. \nThis is sure to be a special evening you will want to be a part of. \nClick here for the full menu and wine selection
URL:https://www.pluckemininn.com/event/annual-opus-one-dinner-save-the-date/
LOCATION:Pluckemin Inn\, 359 Route 206 South & Pluckemin Way\, Bedminster\, NJ\, 07921\, United States
CATEGORIES:Wine Dinner
ATTACH;FMTTYPE=image/jpeg:https://www.pluckemininn.com/wp-content/uploads/2023/02/Opus-One-2019-OWC.jpg
GEO:40.6497262;-74.643527
X-APPLE-STRUCTURED-LOCATION;VALUE=URI;X-ADDRESS=Pluckemin Inn 359 Route 206 South & Pluckemin Way Bedminster NJ 07921 United States;X-APPLE-RADIUS=500;X-TITLE=359 Route 206 South & Pluckemin Way:geo:-74.643527,40.6497262
END:VEVENT
END:VCALENDAR