BEGIN:VCALENDAR
VERSION:2.0
PRODID:-//Pluckemin Inn - ECPv6.15.12.2//NONSGML v1.0//EN
CALSCALE:GREGORIAN
METHOD:PUBLISH
X-WR-CALNAME:Pluckemin Inn
X-ORIGINAL-URL:https://www.pluckemininn.com
X-WR-CALDESC:Events for Pluckemin Inn
REFRESH-INTERVAL;VALUE=DURATION:PT1H
X-Robots-Tag:noindex
X-PUBLISHED-TTL:PT1H
BEGIN:VTIMEZONE
TZID:UTC
BEGIN:STANDARD
TZOFFSETFROM:+0000
TZOFFSETTO:+0000
TZNAME:UTC
DTSTART:20230101T000000
END:STANDARD
END:VTIMEZONE
BEGIN:VEVENT
DTSTART;TZID=UTC:20240815T190000
DTEND;TZID=UTC:20240815T213000
DTSTAMP:20260421T120929
CREATED:20240802T170212Z
LAST-MODIFIED:20240805T231603Z
UID:10000220-1723748400-1723757400@www.pluckemininn.com
SUMMARY:New Jersey Seafood Dinner
DESCRIPTION:We are excited to announce our third annual New Jersey Seafood dinner. \nThe shores of our state supply us with beautiful fish and shellfish year round\, and with the Summer in full swing\, it is the perfect time to celebrate the fruits of our seashore. \nJoin us to enjoy a menu featuring bigeye tune\, blue crab\, Barnegat scallops\, and more. Our executive chef\, Jason Ramos\, created a mouthwatering menu using these fresh catches\, and sommelier Sean Price will be pairing each course with a  perfect glass of wine. \nPastry chef\, Katherine King\, will help us finish the dinner with a beautifully light Summer fruit galette. \nTo view the menu\, click here. \nCall today to book your reservation.
URL:https://www.pluckemininn.com/event/new-jersey-seafood-dinner-2/
CATEGORIES:Themed Dinner,Wine Dinner
ATTACH;FMTTYPE=image/jpeg:https://www.pluckemininn.com/wp-content/uploads/2024/08/AdobeStock_343865660-scaled.jpeg
END:VEVENT
BEGIN:VEVENT
DTSTART;TZID=UTC:20240828T190000
DTEND;TZID=UTC:20240828T213000
DTSTAMP:20260421T120929
CREATED:20240802T184432Z
LAST-MODIFIED:20240816T141429Z
UID:10000221-1724871600-1724880600@www.pluckemininn.com
SUMMARY:New Jersey Corn & Tomato Dinner - Sold Out (Waitlist available)
DESCRIPTION:Our New Jersey Corn & Tomato dinner is arguably the single most anticipated dinner of the year. If you are a food lover and live in New Jersey\, as we are\, you patiently wait all year for that special time\, somewhere in mid to late August\, when NJ Corn and tomatoes are at their peak. Each one of these ingredients can carry a whole dinner by itself. Put them together\, and you are guaranteed a special meal. \nDon’t wait\, and make your reservation today. This dinner will sell out quickly. \nClick HERE for menu and wine pairing details.
URL:https://www.pluckemininn.com/event/new-jersey-corn-tomato-dinner/
CATEGORIES:Themed Dinner,Wine Dinner
END:VEVENT
END:VCALENDAR