BEGIN:VCALENDAR
VERSION:2.0
PRODID:-//Pluckemin Inn - ECPv6.15.12.2//NONSGML v1.0//EN
CALSCALE:GREGORIAN
METHOD:PUBLISH
X-WR-CALNAME:Pluckemin Inn
X-ORIGINAL-URL:https://www.pluckemininn.com
X-WR-CALDESC:Events for Pluckemin Inn
REFRESH-INTERVAL;VALUE=DURATION:PT1H
X-Robots-Tag:noindex
X-PUBLISHED-TTL:PT1H
BEGIN:VTIMEZONE
TZID:UTC
BEGIN:STANDARD
TZOFFSETFROM:+0000
TZOFFSETTO:+0000
TZNAME:UTC
DTSTART:20230101T000000
END:STANDARD
END:VTIMEZONE
BEGIN:VEVENT
DTSTART;TZID=UTC:20240613T190000
DTEND;TZID=UTC:20240613T213000
DTSTAMP:20260421T152324
CREATED:20240511T172708Z
LAST-MODIFIED:20240607T161715Z
UID:10000213-1718305200-1718314200@www.pluckemininn.com
SUMMARY:Calluna Vineyards - Winemaker Dinner
DESCRIPTION:We are excited to welcome former NJ resident\, turned California winemaker\, David Jeffrey and his Calluna Vineyards wines. \nDavid will guide us through a five course dinner\, with each course paired by one of his Bordeaux style wines. \nSome of the wines we will be tasting during the dinner we will be the Estate Blanc – a sauvignon blanc/semillon blend\, the 2020 Merlot “Aux Raynauds” – an homage to Dr. Alain Raynauds of Chateau Quinault in St. Emilion who taught David much of what he knows about the wines of Bordeaux. We will also serve a couple of vintages of the Estate’s Cabernet Sauvignon going back to the 2014 vintage. \nClick here to view the menu and wine pairing.
URL:https://www.pluckemininn.com/event/calluna-vineyards-winemaker-dinner/
CATEGORIES:Wine Dinner
ATTACH;FMTTYPE=image/jpeg:https://www.pluckemininn.com/wp-content/uploads/2024/05/Callunaabout_2.jpg
END:VEVENT
END:VCALENDAR