BEGIN:VCALENDAR
VERSION:2.0
PRODID:-//Pluckemin Inn - ECPv6.15.12.2//NONSGML v1.0//EN
CALSCALE:GREGORIAN
METHOD:PUBLISH
X-ORIGINAL-URL:https://www.pluckemininn.com
X-WR-CALDESC:Events for Pluckemin Inn
REFRESH-INTERVAL;VALUE=DURATION:PT1H
X-Robots-Tag:noindex
X-PUBLISHED-TTL:PT1H
BEGIN:VTIMEZONE
TZID:UTC
BEGIN:STANDARD
TZOFFSETFROM:+0000
TZOFFSETTO:+0000
TZNAME:UTC
DTSTART:20220101T000000
END:STANDARD
END:VTIMEZONE
BEGIN:VEVENT
DTSTART;TZID=UTC:20231109T190000
DTEND;TZID=UTC:20231109T213000
DTSTAMP:20260422T032502
CREATED:20231029T004237Z
LAST-MODIFIED:20231029T004237Z
UID:10000204-1699556400-1699565400@www.pluckemininn.com
SUMMARY:Winemaker Dinner with Selbach-Oster
DESCRIPTION:Join us on Thursday\, November 9th\, as we welcome Johannes & Barbara Selbach of Germany’s renowned Selbach-Oster. \nJohannes and Barbara\, alongside their son\, Sebastian\, manage their vineyards and winery with passion and respect for the estate’s long held traditions. \nMost of the Selbach-Oster vineyards are located on steep\, contiguous slopes that represent some of the most prestigious sites in all of the Middle Mosel. In fact\, 85% of the Selbach’s vines are planted on steep slopes. \nJohannes will share with us his traditionalist\, hands-off manner of winemaking\, that focuses on meticulous work in their organic and sustainably farmed vineyards with the aim to produce and bring home perfect fruit that will later be transformed to world class wine. \nWe will be serving seven (7) different wines from their vineyards and while most of them are Rieslings\, we will also taste a sparkling wine using a blend of Pinot Noir\, Pinot Blanc and Meunier and one red wine\, a 100% Pinot Noir (aka Spatburgunder) during this five course dinner. \nClick HERE to view menu and wine pairing.
URL:https://www.pluckemininn.com/event/winemaker-dinner-with-selbach-oster/
CATEGORIES:Wine Dinner
ATTACH;FMTTYPE=image/jpeg:https://www.pluckemininn.com/wp-content/uploads/2023/10/Selbach-Oster-2.jpg
END:VEVENT
END:VCALENDAR