BEGIN:VCALENDAR
VERSION:2.0
PRODID:-//Pluckemin Inn - ECPv6.15.12.2//NONSGML v1.0//EN
CALSCALE:GREGORIAN
METHOD:PUBLISH
X-WR-CALNAME:Pluckemin Inn
X-ORIGINAL-URL:https://www.pluckemininn.com
X-WR-CALDESC:Events for Pluckemin Inn
REFRESH-INTERVAL;VALUE=DURATION:PT1H
X-Robots-Tag:noindex
X-PUBLISHED-TTL:PT1H
BEGIN:VTIMEZONE
TZID:UTC
BEGIN:STANDARD
TZOFFSETFROM:+0000
TZOFFSETTO:+0000
TZNAME:UTC
DTSTART:20220101T000000
END:STANDARD
END:VTIMEZONE
BEGIN:VEVENT
DTSTART;TZID=UTC:20230816T190000
DTEND;TZID=UTC:20230816T213000
DTSTAMP:20260422T081443
CREATED:20230802T214656Z
LAST-MODIFIED:20230804T211533Z
UID:10000197-1692212400-1692221400@www.pluckemininn.com
SUMMARY:Tour de France Wine Dinner
DESCRIPTION:The Tour de France is an annual cycling competition that captures the attention of millions around the world every year. Here\, at the Pluckemin Inn\, we have our focus on a different kind of tour\, the wine kind… \nJoin us on Wednesday\, August 16th\, as Sean Price\, our Sommelier\, takes you on a wine tour of France. \nSean will start the evening in northern France with a visit to Champagne. We will then make our way south with stops in Burgundy and Beaujolais\, before traveling west to Bordeaux. To end the evening we will travel back east and visit the lesser-known\, but just as special\, Jura region and try the unique Vin Jaune. \nSo\, whether you are a longtime French wine lover\, or just getting to know French wines\, this is a dinner you would not want to miss. \nCall today for your reservation at: 908.658.9292 \nClick HERE for the dinner’s menu. \n*Please note that while we make every effort to accommodate dietary restriction/allergies\, in order to prevent delays between courses\, our ability to accommodate some restrictions/allergies is limited during special events/wine dinners. We apologize in advance for any inconvenience this may present.
URL:https://www.pluckemininn.com/event/tour-de-france-wine-dinner-2/
CATEGORIES:Wine Dinner
ATTACH;FMTTYPE=image/jpeg:https://www.pluckemininn.com/wp-content/uploads/2023/08/AdobeStock_165507201-scaled.jpeg
END:VEVENT
END:VCALENDAR