BEGIN:VCALENDAR
VERSION:2.0
PRODID:-//Pluckemin Inn - ECPv6.15.12.2//NONSGML v1.0//EN
CALSCALE:GREGORIAN
METHOD:PUBLISH
X-ORIGINAL-URL:https://www.pluckemininn.com
X-WR-CALDESC:Events for Pluckemin Inn
REFRESH-INTERVAL;VALUE=DURATION:PT1H
X-Robots-Tag:noindex
X-PUBLISHED-TTL:PT1H
BEGIN:VTIMEZONE
TZID:UTC
BEGIN:STANDARD
TZOFFSETFROM:+0000
TZOFFSETTO:+0000
TZNAME:UTC
DTSTART:20220101T000000
END:STANDARD
END:VTIMEZONE
BEGIN:VEVENT
DTSTART;TZID=UTC:20230608T190000
DTEND;TZID=UTC:20230608T213000
DTSTAMP:20260422T111033
CREATED:20230523T230724Z
LAST-MODIFIED:20230525T153659Z
UID:10000194-1686250800-1686259800@www.pluckemininn.com
SUMMARY:Rosé All Night - A Pink Wine Dinner
DESCRIPTION:Rosé has become the wine of choice for many during the hot Summer months. We\, too\, love the refreshingly pink wine. So much so\, that we are planning a whole dinner around it. \nJoin us on Thursday\, June 8th\, as Sommelier\, Sean Price\, guides us through a five course dinner paired with five different rosé wines\, demonstrating just how versatile rosé can be and why it is indeed deserving of the popular phrase: Rosé All Day (and night!). \nExecutive chef\, Jason Ramos\, is hard at work putting together an exciting menu to pair with the wines\, and highlight their range. \nTo view the full menu and wine selection click HERE.
URL:https://www.pluckemininn.com/event/rose-all-night-a-pink-wine-dinner/
CATEGORIES:Wine Dinner
ATTACH;FMTTYPE=image/jpeg:https://www.pluckemininn.com/wp-content/uploads/2022/05/AdobeStock_284471007.jpeg
END:VEVENT
BEGIN:VEVENT
DTSTART;TZID=UTC:20230621T193000
DTEND;TZID=UTC:20230621T220000
DTSTAMP:20260422T111033
CREATED:20230606T210616Z
LAST-MODIFIED:20230613T185858Z
UID:10000195-1687375800-1687384800@www.pluckemininn.com
SUMMARY:Champagne Billecart Salmon - Celebrating the Release of the 2008 Nicolas François
DESCRIPTION:If you have taken the time to look at our wine list\, and we know that you have\, you must have noticed how extensive our Champagne selection is. One of the most popular Champagnes on that list is Champagne Billecart Salmon. So when the opportunity presented itself to offer a dinner featuring this 205 years old Champagne house\, it was a no brainer! \nJoin us on Wednesday\, June 21st at 7:30pm\, as we indulge in a dinner celebrating the great Billecart Salmon Champagne\, and the new release of the 2008 Billecart Salmon Nicolas François. \nIn addition to the 2008 Nicolal François we will also serve the NV Brut Reserve\, the 2013 Extra Brut\, the NV Brut Sous Bois and a special release of the 2010 Rose. \nExecutive chef\, Jason Ramos\, will create a five course menu that promises to excite just as much as the wines served. \nTo view the full menu and wine selection click HERE.
URL:https://www.pluckemininn.com/event/champagne-billecart-salmon-celebrating-the-release-of-the-2008-nicolas-francois/
CATEGORIES:Wine Dinner
ATTACH;FMTTYPE=image/jpeg:https://www.pluckemininn.com/wp-content/uploads/2023/06/Nicolas-Francois2008_squared.jpg
END:VEVENT
END:VCALENDAR