BEGIN:VCALENDAR
VERSION:2.0
PRODID:-//Pluckemin Inn - ECPv6.15.12.2//NONSGML v1.0//EN
CALSCALE:GREGORIAN
METHOD:PUBLISH
X-ORIGINAL-URL:https://www.pluckemininn.com
X-WR-CALDESC:Events for Pluckemin Inn
REFRESH-INTERVAL;VALUE=DURATION:PT1H
X-Robots-Tag:noindex
X-PUBLISHED-TTL:PT1H
BEGIN:VTIMEZONE
TZID:UTC
BEGIN:STANDARD
TZOFFSETFROM:+0000
TZOFFSETTO:+0000
TZNAME:UTC
DTSTART:20210101T000000
END:STANDARD
END:VTIMEZONE
BEGIN:VEVENT
DTSTART;TZID=UTC:20220811T190000
DTEND;TZID=UTC:20220811T213000
DTSTAMP:20260423T022223
CREATED:20220728T000530Z
LAST-MODIFIED:20220730T011403Z
UID:10000182-1660244400-1660253400@www.pluckemininn.com
SUMMARY:The Jersey Tomato Dinner
DESCRIPTION:The Jersey tomato. \nOur pride a joy\, and for a very good reason. \nNo other produce captures Summer more perfectly than a sun ripened\, juicy\, sweet\, acidic and lush Jersey tomato. \nSo join us on Thursday\, August 11th\, at 7:00pm for a wine paired dinner\, celebrating tomatoes of every shape color and size\, from the first course to the last. \nClick HERE to view the menu for the dinner.
URL:https://www.pluckemininn.com/event/the-jersey-tomato-dinner/
LOCATION:Pluckemin Inn\, 359 Route 206 South & Pluckemin Way\, Bedminster\, NJ\, 07921\, United States
CATEGORIES:Wine Dinner
ATTACH;FMTTYPE=image/jpeg:https://www.pluckemininn.com/wp-content/uploads/2022/07/AdobeStock_132508110.jpeg
GEO:40.6497262;-74.643527
X-APPLE-STRUCTURED-LOCATION;VALUE=URI;X-ADDRESS=Pluckemin Inn 359 Route 206 South & Pluckemin Way Bedminster NJ 07921 United States;X-APPLE-RADIUS=500;X-TITLE=359 Route 206 South & Pluckemin Way:geo:-74.643527,40.6497262
END:VEVENT
END:VCALENDAR